BEGIN:VCALENDAR
VERSION:2.0
PRODID:-//HELP Akademie - ECPv6.15.20//NONSGML v1.0//EN
CALSCALE:GREGORIAN
METHOD:PUBLISH
X-WR-CALNAME:HELP Akademie
X-ORIGINAL-URL:https://www.help-akademie.de
X-WR-CALDESC:Veranstaltungen für HELP Akademie
REFRESH-INTERVAL;VALUE=DURATION:PT1H
X-Robots-Tag:noindex
X-PUBLISHED-TTL:PT1H
BEGIN:VTIMEZONE
TZID:Europe/Berlin
BEGIN:DAYLIGHT
TZOFFSETFROM:+0100
TZOFFSETTO:+0200
TZNAME:CEST
DTSTART:20250330T010000
END:DAYLIGHT
BEGIN:STANDARD
TZOFFSETFROM:+0200
TZOFFSETTO:+0100
TZNAME:CET
DTSTART:20251026T010000
END:STANDARD
BEGIN:DAYLIGHT
TZOFFSETFROM:+0100
TZOFFSETTO:+0200
TZNAME:CEST
DTSTART:20260329T010000
END:DAYLIGHT
BEGIN:STANDARD
TZOFFSETFROM:+0200
TZOFFSETTO:+0100
TZNAME:CET
DTSTART:20261025T010000
END:STANDARD
BEGIN:DAYLIGHT
TZOFFSETFROM:+0100
TZOFFSETTO:+0200
TZNAME:CEST
DTSTART:20270328T010000
END:DAYLIGHT
BEGIN:STANDARD
TZOFFSETFROM:+0200
TZOFFSETTO:+0100
TZNAME:CET
DTSTART:20271031T010000
END:STANDARD
END:VTIMEZONE
BEGIN:VEVENT
DTSTART;VALUE=DATE:20260409
DTEND;VALUE=DATE:20260421
DTSTAMP:20260420T002256
CREATED:20250401T171008Z
LAST-MODIFIED:20260401T150955Z
UID:10000567-1775692800-1776729599@www.help-akademie.de
SUMMARY:Berufsbetreuer Ausbildung München BB-2026-1: Modul 9 (Zoomveranstaltung): Sozialrecht
DESCRIPTION:Zoomveranstaltung \n1.Tag (09.04.2026) \nBegrüßung: 09:00 Uhr \nUnterrichtsfach: Sozialrecht\, Unterrichtszeit: 09:00 – 13:05 Uhr \n2.Tag  (10.04.2026) \nUnterrichtsfach: Sozialrecht\,Unterrichtszeit: 18:00 – 20:25 Uhr \n3.Tag (11.04.2026) \nUnterrichtsfach: Sozialrecht\, Unterrichtszeit: 09:00 – 13:05 Uhr \n4.Tag (12.04.2026) \nUnterrichtsfach: Sozialrecht\, Unterrichtszeit: 18:00 – 20:25 Uhr \n5.Tag (13.04.2026) \nUnterrichtsfach: Sozialrecht\, Unterrichtszeit: 09:00 – 13:05 Uhr \n6.Tag (14.04.2026) \nUnterrichtsfach: Sozialrecht: 09:00 – 12:10 Uhr \n7.Tag (15.04.2026) \nUnterrichtsfach: Sozialrecht\, Unterrichtszeit: 09:00 – 12:10 Uhr \n8.Tag (16.04.2026) \nUnterrichtsfach: Sozialrecht\,Unterrichtszeit: 09:00 – 13:05 Uhr \n9.Tag (17.04.2026) \nUnterrichtsfach: Sozialrecht\, Unterrichtszeit: 18:00 – 21:10 Uhr \n10.Tag (18.04.2026) \nUnterrichtsfach: Sozialrecht\, Unterrichtszeit: 18:00 – 21.10 Uhr \n11.Tag (19.04.2026) \nUnterrichtsfach: Sozialrecht\, Unterrichtszeit: 18:00 – 21.10 Uhr \n12.Tag (20.04.2026) \nUnterrichtsfach: Sozialrecht\, Unterrichtszeit: 17:15 – 19:40 Uhr \nModulprüfung Modul 9 inkl. Technik: 19:50 – ca. 2o:20Uhr
URL:https://www.help-akademie.de/termin/berufsbetreuer-ausbildung-muenchen-bb-2026-1-modul-9-zoomveranstaltung-sozialrecht/
LOCATION:ZOOM Veranstaltung
CATEGORIES:Berufsbetreuer
ORGANIZER;CN="HELP Akademie":MAILTO:info@help-akademie.de
END:VEVENT
END:VCALENDAR